BEGIN:VCALENDAR
VERSION:2.0
PRODID:-//wp-events-plugin.com//7.2.3.1//EN
TZID:America/Vancouver
X-WR-TIMEZONE:America/Vancouver
BEGIN:VEVENT
UID:81@askuskelowna.ca
DTSTART;TZID=America/Vancouver:20250316T130000
DTEND;TZID=America/Vancouver:20250316T160000
DTSTAMP:20250317T024116Z
URL:https://askuskelowna.ca/events/adam-jones/
SUMMARY:Dr. Adam Jones Speaks on Genocide: In General and Gaza\, in Particu
 lar
DESCRIPTION:Dr. Adam Jones will talk about contemporary debates and controv
 ersies in genocide studies\, including over the war in Gaza.\n\n\n\nDr. Ad
 am Jones is a Professor of Political Science at UBC-O\, writer\, and photo
 journalist. Born in Singapore and raised in Vernon\, he is the author of G
 enocide: A Comprehensive Introduction and other books in genocide studies.
  He is the Executive Director of Gendercide Watch. His research includes g
 enocide and structural violence\; crimes against humanity\; gender and vio
 lence\; gender and international political economy\; research impacts huma
 n rights policymaking and social activism\, gender and development policie
 s\, humanitarian intervention and peacebuilding\, and international law. H
 e was chosen as one of "Fifty Key Thinkers on the Holocaust and Genocide" 
 for the book of that name\, which was published in 2010. He is also a publ
 ished photographer.\n\nPLEASE NOTE:\n\nThe Creekside Pub provides its meet
 ing room for free. However\, we ask that you purchase a beverage or food w
 hile attending our gatherings.
ATTACH;FMTTYPE=image/jpeg:https://askuskelowna.ca/wp-content/uploads/2025/
 02/Gaza-Stripe.jpg
CATEGORIES:Forum
LOCATION:Creekside Pub\, 3929 Lakeshore Road\, Kelowna\, BC\, V1W 1V3\, Can
 ada
X-APPLE-STRUCTURED-LOCATION;VALUE=URI;X-ADDRESS=3929 Lakeshore Road\, Kelow
 na\, BC\, V1W 1V3\, Canada;X-APPLE-RADIUS=100;X-TITLE=Creekside Pub:geo:0,
 0
END:VEVENT
BEGIN:VTIMEZONE
TZID:America/Vancouver
X-LIC-LOCATION:America/Vancouver
BEGIN:DAYLIGHT
DTSTART:20250309T030000
TZOFFSETFROM:-0800
TZOFFSETTO:-0700
TZNAME:PDT
END:DAYLIGHT
END:VTIMEZONE
END:VCALENDAR