BEGIN:VCALENDAR
VERSION:2.0
PRODID:-//wp-events-plugin.com//7.2.3.1//EN
TZID:America/Vancouver
X-WR-TIMEZONE:America/Vancouver
BEGIN:VEVENT
UID:539@askuskelowna.ca
DTSTART;TZID=America/Vancouver:20250722T161500
DTEND;TZID=America/Vancouver:20250722T171500
DTSTAMP:20250720T183034Z
URL:https://askuskelowna.ca/events/after-rally-party-come-and-unwind/
SUMMARY:After Rally Party - Come and Unwind
DESCRIPTION:As per skeptic doctrine\, there will be a gathering to intellec
 tualize at the pub for our next steps to save Kelowna from religiosity. Al
 l thoughts go down better with a pint of something to ease our pains.\n\nP
 lus\, it will be Happy Hour at this Pub till 6pm.\nLocated in the heart of
  Kelowna's Cultural District at The Kelowna Beer Institute we brew in smal
 l batch and serve it in it unfiltered from tank-to-tap at it's freshest st
 ate. We have built the Kelowna Beer Institute to share our knowledge and p
 assion for craft beer. We hope you enjoy spending time learning about and 
 loving craft beer at the Kelowna Beer Institute as much as we love making 
 it and serving it to you - Cheers.\nEmail us at grow @ askuskelowna if you
  are coming.
ATTACH;FMTTYPE=image/jpeg:https://askuskelowna.ca/wp-content/uploads/2025/
 07/Kelowna-Beer-Institute_Logo_WebPreview_Horizontal.jpg
CATEGORIES:Pub
LOCATION:Kelowna Beer Institute\, 1346 Water Street\, Kelowna\, Canada
X-APPLE-STRUCTURED-LOCATION;VALUE=URI;X-ADDRESS=1346 Water Street\, Kelowna
 \, Canada;X-APPLE-RADIUS=100;X-TITLE=Kelowna Beer Institute:geo:0,0
END:VEVENT
BEGIN:VTIMEZONE
TZID:America/Vancouver
X-LIC-LOCATION:America/Vancouver
BEGIN:DAYLIGHT
DTSTART:20250309T030000
TZOFFSETFROM:-0800
TZOFFSETTO:-0700
TZNAME:PDT
END:DAYLIGHT
END:VTIMEZONE
END:VCALENDAR