BEGIN:VCALENDAR
VERSION:2.0
PRODID:-//wp-events-plugin.com//7.2.3.1//EN
TZID:America/Vancouver
X-WR-TIMEZONE:America/Vancouver
BEGIN:VEVENT
UID:61@askuskelowna.ca
DTSTART;TZID=America/Vancouver:20241215T130000
DTEND;TZID=America/Vancouver:20241215T153000
DTSTAMP:20241210T163944Z
URL:https://askuskelowna.ca/events/festivus-2024/
SUMMARY:Festivus 2024
DESCRIPTION:Come join us in the 'Festivus for the Restivus' celebration at 
 1:00 pm on Sunday\, December 15! Have a drink and/or lunch with your fello
 w KASHA members and guests\, and take part in some Festivus activities!\n\
 nThe Festivus pole will soon be dug out of the garage and we’ll have it 
 set up for some re-gifting.  If you wish to participate\, wrap up that ol
 d vase or miniature wrench set that you never use and drop it off at the p
 ole…and perhaps go home with an equally useless gift!\n\n1:00 - Come in 
 and lay your re-gifts at the Festivus Pole\n\n1:30 - Lunch/Snacks/Drinks\n
 \n2:00- Voting on the official Festivus miracle of 2024.  Did everyone ma
 ke it to dinner?  Was all the silverware clean?  Did everyone have a dec
 ent meal?\n\n2:30 - Feats of strength and mental strength\, some post-meal
  fun!\n\n3:00 - Re-Gifting exchange.\n\nThe Creekside Pub provides the mee
 ting room for free.  We ask that you purchase a beverage or food while at
 tending our gatherings.
ATTACH;FMTTYPE=image/jpeg:https://askuskelowna.ca/wp-content/uploads/2024/
 12/Festivus-for-the-Rest-of-Us.jpg
CATEGORIES:Special
LOCATION:Creekside Pub\, 3929 Lakeshore Road\, Kelowna\, BC\, V1W 1V3\, Can
 ada
X-APPLE-STRUCTURED-LOCATION;VALUE=URI;X-ADDRESS=3929 Lakeshore Road\, Kelow
 na\, BC\, V1W 1V3\, Canada;X-APPLE-RADIUS=100;X-TITLE=Creekside Pub:geo:0,
 0
END:VEVENT
BEGIN:VTIMEZONE
TZID:America/Vancouver
X-LIC-LOCATION:America/Vancouver
BEGIN:STANDARD
DTSTART:20241103T010000
TZOFFSETFROM:-0700
TZOFFSETTO:-0800
TZNAME:PST
END:STANDARD
END:VTIMEZONE
END:VCALENDAR