BEGIN:VCALENDAR
VERSION:2.0
PRODID:-//wp-events-plugin.com//7.2.3.1//EN
TZID:America/Vancouver
X-WR-TIMEZONE:America/Vancouver
BEGIN:VEVENT
UID:584@askuskelowna.ca
DTSTART;TZID=America/Vancouver:20251124T180000
DTEND;TZID=America/Vancouver:20251124T210000
DTSTAMP:20251123T000401Z
URL:https://askuskelowna.ca/events/kasha-agm-2025-2026/
SUMMARY:KASHA AGM 2025-2026
DESCRIPTION:You’re Invited to KASHA’s Annual General Meeting! \nMonday\
 , November 24\, 2025 | 6–9 PM | Creekside Pub (Event Room)\n\nKASHA's Tr
 ivia Night will be part of this meeting\, with the winner receiving a comp
 limentary meal.\nAppetizers will also be provided.\n It’s that time aga
 in\, time to connect\, reflect\, and plan for another exciting year of rea
 son\, science\, and community!\nJoin fellow skeptics\, humanists\, and cur
 ious minds at our Annual General Meeting (AGM). We’ll look back at what 
 KASHA has accomplished\, chat about new ideas for 2026\, and elect our nex
 t board of directors. Whether you’ve been with us for years or are just 
 discovering KASHA\, this is your moment to share your thoughts and help sh
 ape what comes next.\nWhy come?\nBecause KASHA isn’t just a group\, it
 ’s a movement built on open minds\, good conversation\, advocacy\, and t
 he occasional pint!\nRenew or Join KASHA Today!\nYour membership keeps our
  voice strong in Kelowna and beyond.\nJoin or renew for $10 or $30—every
  member has the same voice and vote.\n[Join or Renew HERE]\nWant to do mor
 e?\nConsider joining the KASHA Board! It’s a great way to meet thoughtfu
 l people and help guide our projects and advocacy. We need your voice!\n[A
 pply for the Board HERE]\nLet’s keep reason alive in Kelowna and have so
 me fun doing it!\nWe can’t wait to see you there!
ATTACH;FMTTYPE=image/jpeg:https://askuskelowna.ca/wp-content/uploads/2022/
 06/Secular-Humanist.jpg
CATEGORIES:Special
LOCATION:Creekside Pub\, 3929 Lakeshore Road\, Kelowna\, BC\, V1W 1V3\, Can
 ada
X-APPLE-STRUCTURED-LOCATION;VALUE=URI;X-ADDRESS=3929 Lakeshore Road\, Kelow
 na\, BC\, V1W 1V3\, Canada;X-APPLE-RADIUS=100;X-TITLE=Creekside Pub:geo:0,
 0
END:VEVENT
BEGIN:VTIMEZONE
TZID:America/Vancouver
X-LIC-LOCATION:America/Vancouver
BEGIN:STANDARD
DTSTART:20251102T010000
TZOFFSETFROM:-0700
TZOFFSETTO:-0800
TZNAME:PST
END:STANDARD
END:VTIMEZONE
END:VCALENDAR