BEGIN:VCALENDAR
VERSION:2.0
PRODID:-//wp-events-plugin.com//7.2.3.1//EN
TZID:America/Vancouver
X-WR-TIMEZONE:America/Vancouver
BEGIN:VEVENT
UID:536@askuskelowna.ca
DTSTART;TZID=America/Vancouver:20250531T110000
DTEND;TZID=America/Vancouver:20250531T160000
DTSTAMP:20250527T184853Z
URL:https://askuskelowna.ca/events/kashas-booth-at-kelowna-pride-march-fes
 tival-sat-may-31/
SUMMARY:KASHA's Booth at Kelowna Pride March & Festival - Sat.\, May 31
DESCRIPTION:KASHA will be participating in Kelowna's 2025 Pride March and F
 estival on Saturday\, May 31\, at  City Park.\n\nThis event marks the beg
 inning of Pride Month\, from May 30 to June 30\, 2025.\n\nWe will be in bo
 oth E-15 and will be getting people to sign our petition to challenge the 
 tax exemption on religiously owned properties.\n\nCome visit us. You can s
 ign the petition here.\n\nSee details here: https://www.kelownapride.com/e
 vent-details/kelowna-pride-march-festival\n\nBecome a KASHA member here: h
 ttps://askuskelowna.ca/shop/\n\nSign up for the KASHA newsletter here: htt
 ps://us16.campaign-archive.com/home/?u=043052f8a9fed51df73008fa6&amp\;id=b
 729411619
LOCATION:City Park\, 1600 Abbott Street\, Kelowna\, BC\, V1Y 1B7\, Central 
 Okanagan\, Canada
X-APPLE-STRUCTURED-LOCATION;VALUE=URI;X-ADDRESS=1600 Abbott Street\, Kelown
 a\, BC\, V1Y 1B7\, Central Okanagan\, Canada;X-APPLE-RADIUS=100;X-TITLE=Ci
 ty Park:geo:0,0
END:VEVENT
BEGIN:VTIMEZONE
TZID:America/Vancouver
X-LIC-LOCATION:America/Vancouver
BEGIN:DAYLIGHT
DTSTART:20250309T030000
TZOFFSETFROM:-0800
TZOFFSETTO:-0700
TZNAME:PDT
END:DAYLIGHT
END:VTIMEZONE
END:VCALENDAR