BEGIN:VCALENDAR
VERSION:2.0
PRODID:-//wp-events-plugin.com//7.2.3.1//EN
TZID:America/Vancouver
X-WR-TIMEZONE:America/Vancouver
BEGIN:VEVENT
UID:174@askuskelowna.ca
DTSTART;TZID=America/Vancouver:20250406T140000
DTEND;TZID=America/Vancouver:20250406T150000
DTSTAMP:20250303T003418Z
URL:https://askuskelowna.ca/events/kashas-monthly-general-meeting-2025-04-
 06/
SUMMARY:KASHA's Monthly General Meeting
DESCRIPTION:The KASHA board will have in-person General Meetings at noon on
  the first Sunday of each month at Urban Fare.\n\nIt will follow the Secul
 ar Humanist Cafe (click here for details) which meets at 10 pm at the sam
 e location.\n\nIf you are an official member\, please join us.
ATTACH;FMTTYPE=image/jpeg:https://askuskelowna.ca/wp-content/uploads/2023/
 03/KASHA-Brainstorm.jpg
CATEGORIES:Board Meeting
LOCATION:Urban Fare Cafe Lower Mission\, 3155 Lakeshore Road\, Kelowna\, BC
 \, V1W3S9\, Canada
X-APPLE-STRUCTURED-LOCATION;VALUE=URI;X-ADDRESS=3155 Lakeshore Road\, Kelow
 na\, BC\, V1W3S9\, Canada;X-APPLE-RADIUS=100;X-TITLE=Urban Fare Cafe Lower
  Mission:geo:0,0
END:VEVENT
BEGIN:VTIMEZONE
TZID:America/Vancouver
X-LIC-LOCATION:America/Vancouver
BEGIN:DAYLIGHT
DTSTART:20250309T030000
TZOFFSETFROM:-0800
TZOFFSETTO:-0700
TZNAME:PDT
END:DAYLIGHT
END:VTIMEZONE
END:VCALENDAR