BEGIN:VCALENDAR
VERSION:2.0
PRODID:-//wp-events-plugin.com//7.2.3.1//EN
TZID:America/Vancouver
X-WR-TIMEZONE:America/Vancouver
BEGIN:VEVENT
UID:180@askuskelowna.ca
DTSTART;TZID=America/Vancouver:20251004T150000
DTEND;TZID=America/Vancouver:20251004T160000
DTSTAMP:20251002T161608Z
URL:https://askuskelowna.ca/events/kashas-monthly-general-meeting-2025-10-
 05/
SUMMARY:KASHA's Monthly General Meeting
DESCRIPTION:The KASHA board will have in-person General Meetings after the 
 'Building People Power for Change' Forum on Saturday\, October 4th.\n\nIf 
 you are an official member\, please join us.\n\n&nbsp\;
ATTACH;FMTTYPE=image/jpeg:https://askuskelowna.ca/wp-content/uploads/2023/
 03/KASHA-Brainstorm.jpg
CATEGORIES:Board Meeting,Outside
LOCATION:Creekside Pub\, 3929 Lakeshore Road\, Kelowna\, BC\, V1W 1V3\, Can
 ada
X-APPLE-STRUCTURED-LOCATION;VALUE=URI;X-ADDRESS=3929 Lakeshore Road\, Kelow
 na\, BC\, V1W 1V3\, Canada;X-APPLE-RADIUS=100;X-TITLE=Creekside Pub:geo:0,
 0
END:VEVENT
BEGIN:VTIMEZONE
TZID:America/Vancouver
X-LIC-LOCATION:America/Vancouver
BEGIN:DAYLIGHT
DTSTART:20250309T030000
TZOFFSETFROM:-0800
TZOFFSETTO:-0700
TZNAME:PDT
END:DAYLIGHT
END:VTIMEZONE
END:VCALENDAR