BEGIN:VCALENDAR
VERSION:2.0
PRODID:-//wp-events-plugin.com//7.2.3.1//EN
TZID:America/Vancouver
X-WR-TIMEZONE:America/Vancouver
BEGIN:VEVENT
UID:885@askuskelowna.ca
DTSTART;TZID=America/Vancouver:20260528T130000
DTEND;TZID=America/Vancouver:20260528T140000
DTSTAMP:20260402T150651Z
URL:https://askuskelowna.ca/events/kashas-monthly-general-meeting-2026-202
 6-05-28/
SUMMARY:KASHA's Monthly General Meeting - 2026
DESCRIPTION:The KASHA board will have in-person General Meetings at noon on
  the first Sunday of each month at Mission Creek Regional Park.\n\nIt will
  follow the Secular Humanist Cafe (click here for details)\, which meets 
 at 10 pm at the same location.\n\nIf you are an official member\, please j
 oin us.\n\n
ATTACH;FMTTYPE=image/jpeg:https://askuskelowna.ca/wp-content/uploads/2023/
 03/KASHA-Brainstorm.jpg
CATEGORIES:Board Meeting,Outside
LOCATION:Mission Creek Regional Park\, 2363 Springfield Road\, Kelowna\, BC
 \, V1X 7N7\, Canada
X-APPLE-STRUCTURED-LOCATION;VALUE=URI;X-ADDRESS=2363 Springfield Road\, Kel
 owna\, BC\, V1X 7N7\, Canada;X-APPLE-RADIUS=100;X-TITLE=Mission Creek Regi
 onal Park:geo:0,0
END:VEVENT
BEGIN:VTIMEZONE
TZID:America/Vancouver
X-LIC-LOCATION:America/Vancouver
BEGIN:DAYLIGHT
DTSTART:20260308T030000
TZOFFSETFROM:-0800
TZOFFSETTO:-0700
TZNAME:PDT
END:DAYLIGHT
END:VTIMEZONE
END:VCALENDAR