BEGIN:VCALENDAR
VERSION:2.0
PRODID:-//wp-events-plugin.com//7.2.3.1//EN
TZID:America/Vancouver
X-WR-TIMEZONE:America/Vancouver
BEGIN:VEVENT
UID:861@askuskelowna.ca
DTSTART;TZID=America/Vancouver:20260326T120000
DTEND;TZID=America/Vancouver:20260326T130000
DTSTAMP:20260402T150937Z
URL:https://askuskelowna.ca/events/kashas-monthly-general-meeting-at-urban
 -fare-2026-03-26/
SUMMARY:KASHA’s Monthly General Meeting at Urban Fare
DESCRIPTION:The KASHA board will have in-person General Meetings at 1:00 pm
  this Sunday at Urban Fare.\n\nIt will follow the Secular Humanist Cafe (
 click here for details)\, which meets at 10 pm at the same location.\n\nI
 f you are an official member\, please join us.
ATTACH;FMTTYPE=image/jpeg:https://askuskelowna.ca/wp-content/uploads/2023/
 03/KASHA-Brainstorm.jpg
CATEGORIES:Board Meeting
LOCATION:Urban Fare Cafe Lower Mission\, 3155 Lakeshore Road\, Kelowna\, BC
 \, V1W3S9\, Canada
X-APPLE-STRUCTURED-LOCATION;VALUE=URI;X-ADDRESS=3155 Lakeshore Road\, Kelow
 na\, BC\, V1W3S9\, Canada;X-APPLE-RADIUS=100;X-TITLE=Urban Fare Cafe Lower
  Mission:geo:0,0
END:VEVENT
BEGIN:VTIMEZONE
TZID:America/Vancouver
X-LIC-LOCATION:America/Vancouver
BEGIN:DAYLIGHT
DTSTART:20260308T030000
TZOFFSETFROM:-0800
TZOFFSETTO:-0700
TZNAME:PDT
END:DAYLIGHT
END:VTIMEZONE
END:VCALENDAR