BEGIN:VCALENDAR
VERSION:2.0
PRODID:-//wp-events-plugin.com//7.2.3.1//EN
TZID:America/Vancouver
X-WR-TIMEZONE:America/Vancouver
BEGIN:VEVENT
UID:607@askuskelowna.ca
DTSTART;TZID=America/Vancouver:20251207T130000
DTEND;TZID=America/Vancouver:20251207T140000
DTSTAMP:20251203T171204Z
URL:https://askuskelowna.ca/events/kashas-monthly-general-meeting-at-urban
 -fare/
SUMMARY:KASHA's Monthly General Meeting at Urban Fare
DESCRIPTION:The KASHA board will have in-person General Meetings at 1:00 pm
  this Sunday at Urban Fare.\n\nIt will follow the Secular Humanist Cafe (c
 lick here for details)\, which meets at 10 pm at the same location.\n\nIf
  you are an official member\, please join us.\n\n
ATTACH;FMTTYPE=image/jpeg:https://askuskelowna.ca/wp-content/uploads/2023/
 03/KASHA-Brainstorm.jpg
CATEGORIES:Cafe
LOCATION:Urban Fare Cafe Lower Mission\, 3155 Lakeshore Road\, Kelowna\, BC
 \, V1W3S9\, Canada
X-APPLE-STRUCTURED-LOCATION;VALUE=URI;X-ADDRESS=3155 Lakeshore Road\, Kelow
 na\, BC\, V1W3S9\, Canada;X-APPLE-RADIUS=100;X-TITLE=Urban Fare Cafe Lower
  Mission:geo:0,0
END:VEVENT
BEGIN:VTIMEZONE
TZID:America/Vancouver
X-LIC-LOCATION:America/Vancouver
BEGIN:STANDARD
DTSTART:20251102T010000
TZOFFSETFROM:-0700
TZOFFSETTO:-0800
TZNAME:PST
END:STANDARD
END:VTIMEZONE
END:VCALENDAR