BEGIN:VCALENDAR
VERSION:2.0
PRODID:-//wp-events-plugin.com//7.2.3.1//EN
TZID:America/Vancouver
X-WR-TIMEZONE:America/Vancouver
BEGIN:VEVENT
UID:540@askuskelowna.ca
DTSTART;TZID=America/Vancouver:20250819T180000
DTEND;TZID=America/Vancouver:20250819T210000
DTSTAMP:20250730T225025Z
URL:https://askuskelowna.ca/events/magnetic-mysteries-revealed-science-vs-
 pseudoscience/
SUMMARY:Professor Magneto Presents Magnetic Mysteries Revealed: Science vs.
  Pseudoscience
DESCRIPTION:Join us for an electrifying talk with Professor Magneto — ak
 a Dr. Greg Ballentine (Department of Physics &amp\; Astronomy\, Brandon Un
 iversity)\, as he pulls back the curtain on the real science of magnetism.
  Whether you’re fascinated by how magnets work\, or skeptical about the 
 strange claims you've heard\, this event is for you.\n\nDr. Ballentine\, a
  specialist in the physics of electromagnetism\, will guide us through the
  basics of magnetic fields\, how they behave in everyday environments\, an
 d where popular beliefs go off the rails.\n\nCurious questions he'll tackl
 e include:\n\n 	Do magnets still work underwater? since Trump asked.\n 	Ma
 gnet therapy can cure diseases like arthritis.\n 	Will putting a magnet on
  your skin pull metals from your body?\n 	Can Wearing magnets protect you 
 from EMFs or 5G?\n 	Will the Earth’s magnetic field flip overnight and c
 ause global disasters?\n 	Will WiFi and 5G cause cancer?\n\nExpect a fun\
 , myth-busting evening that separates fact from fiction — and science fr
 om snake oil. Bring your own questions that you want answered.... all curi
 ous questions are good questions!\n\n6PM - We will socialize and order dri
 nks/meal\n\n7PM - Magnetic presentation\n\nAs we get the small private roo
 m in the pub for free\, all we ask is that you buy a drink or a meal while
  attending.
ATTACH;FMTTYPE=image/jpeg:https://askuskelowna.ca/wp-content/uploads/2025/
 07/prof-magneto-small.png
CATEGORIES:Forum,Pub
LOCATION:Creekside Pub\, 3929 Lakeshore Road\, Kelowna\, BC\, V1W 1V3\, Can
 ada
X-APPLE-STRUCTURED-LOCATION;VALUE=URI;X-ADDRESS=3929 Lakeshore Road\, Kelow
 na\, BC\, V1W 1V3\, Canada;X-APPLE-RADIUS=100;X-TITLE=Creekside Pub:geo:0,
 0
END:VEVENT
BEGIN:VTIMEZONE
TZID:America/Vancouver
X-LIC-LOCATION:America/Vancouver
BEGIN:DAYLIGHT
DTSTART:20250309T030000
TZOFFSETFROM:-0800
TZOFFSETTO:-0700
TZNAME:PDT
END:DAYLIGHT
END:VTIMEZONE
END:VCALENDAR