BEGIN:VCALENDAR
VERSION:2.0
PRODID:-//wp-events-plugin.com//7.2.3.1//EN
TZID:America/Vancouver
X-WR-TIMEZONE:America/Vancouver
BEGIN:VEVENT
UID:134@askuskelowna.ca
DTSTART;TZID=America/Vancouver:20250312T190000
DTEND;TZID=America/Vancouver:20250312T210000
DTSTAMP:20250303T002605Z
URL:https://askuskelowna.ca/events/online-fair-taxes-fair-future-rethinkin
 g-property-taxes-for-religiously-owned-properties/
SUMMARY:ONLINE - Fair Taxes – Fair Future: Rethinking Property Taxes for 
 Religiously Owned Properties
DESCRIPTION:This is an online event - please book your ticket and you will 
 receive a link closer to 7:00pm.\nThe Kelowna Atheists\, Skeptics\, Humani
 sts Association (KASHA) and Advocacy Canada are challenging the blanket pe
 rmissive property tax exemptions granted to religious organizations that o
 wn public worship buildings\, event halls\, and surrounding lands. This Ju
 ly\, religious organizations in Kelowna will reapply for lucrative five-ye
 ar tax breaks under Kelowna’s Permissive Tax Exemption Policy 327\, allo
 wing them to avoid paying property taxes on multi-million-dollar propertie
 s.\nKASHA and Advocacy Canada question the automatic approval of these tax
  exemptions and argue that religious organizations should demonstrate clea
 r public benefit—not operate as taxpayer-subsidized private clubs. The c
 ity is not required to exempt entire properties surrounding worship buildi
 ngs\, yet this historical privilege remains largely unchallenged.\nKelowna
  residents are invited to learn\, ask questions\, and take action to ensur
 e taxpayer dollars are used fairly and equitably.\nThis online presentatio
 n will include:\nHow religious organizations receive tax exemptions\nHow K
 elowna’s tax policy subsidizes exclusionary practices\nProposed reforms 
 for greater accountability\, equity\, and public benefit\nFor more informa
 tion and petition:\naskuskelowna.ca/pte\n(Data sources: 2020 public worshi
 p applications\, census\, revenue\, donation and property assessments data
 ) 
ATTACH;FMTTYPE=image/jpeg:https://askuskelowna.ca/wp-content/uploads/2025/
 03/LogoZOOM-4-3-for-Fair-taxes-fair-future.png
CATEGORIES:Online Event
LOCATION:Online Event\, 999 Ogogpo Drive\, You will get a zoom line\, Canad
 a
X-APPLE-STRUCTURED-LOCATION;VALUE=URI;X-ADDRESS=999 Ogogpo Drive\, You will
  get a zoom line\, Canada;X-APPLE-RADIUS=100;X-TITLE=Online Event:geo:0,0
END:VEVENT
BEGIN:VTIMEZONE
TZID:America/Vancouver
X-LIC-LOCATION:America/Vancouver
BEGIN:DAYLIGHT
DTSTART:20250309T030000
TZOFFSETFROM:-0800
TZOFFSETTO:-0700
TZNAME:PDT
END:DAYLIGHT
END:VTIMEZONE
END:VCALENDAR