BEGIN:VCALENDAR
VERSION:2.0
PRODID:-//wp-events-plugin.com//7.2.3.1//EN
TZID:America/Vancouver
X-WR-TIMEZONE:America/Vancouver
BEGIN:VEVENT
UID:546@askuskelowna.ca
DTSTART;TZID=America/Vancouver:20250224T180000
DTEND;TZID=America/Vancouver:20250224T210000
DTSTAMP:20251009T162223Z
URL:https://askuskelowna.ca/events/pub-trivia-night-4th-monday-at-creeksid
 e-pub-2025-02-24/
SUMMARY:Pub Trivia Night - 4th Monday at Creekside Pub
DESCRIPTION:KASHA is trying something new for Trivia Night.  It's a new lo
 cation with an old game. Our quiz master and host\, Joyce\, will be dustin
 g off the original Trivia Pursuit game to test our knowledge.\n\nStep righ
 t up and grab a drink or a meal\, pull up a chair\, and take your chances 
 with a fun group of skeptics\, atheists\, and freethinkers! It's never the
  same twice but it's always a blast. Whether we’re cracking trivia quest
 ions or cracking each other up\, you’re in for stimulating debates\, lau
 ghs\, and the occasional (surprising) win. Pub trivia may be a gamble but 
 we always play for fun!\nJoin us for Trivial Pursuit Night on Creekside Pu
 b's patio!  Look for the table with the KASHA sign or ask a staff member
  where the KASHA table is located.
ATTACH;FMTTYPE=image/jpeg:https://askuskelowna.ca/wp-content/uploads/2024/
 11/KASHA-Trivia-Pub-Web.png
CATEGORIES:Pub
LOCATION:Creekside Pub\, 3929 Lakeshore Road\, Kelowna\, BC\, V1W 1V3\, Can
 ada
X-APPLE-STRUCTURED-LOCATION;VALUE=URI;X-ADDRESS=3929 Lakeshore Road\, Kelow
 na\, BC\, V1W 1V3\, Canada;X-APPLE-RADIUS=100;X-TITLE=Creekside Pub:geo:0,
 0
END:VEVENT
BEGIN:VTIMEZONE
TZID:America/Vancouver
X-LIC-LOCATION:America/Vancouver
BEGIN:STANDARD
DTSTART:20241103T010000
TZOFFSETFROM:-0700
TZOFFSETTO:-0800
TZNAME:PST
END:STANDARD
END:VTIMEZONE
END:VCALENDAR