BEGIN:VCALENDAR
VERSION:2.0
PRODID:-//wp-events-plugin.com//7.2.3.1//EN
TZID:America/Vancouver
X-WR-TIMEZONE:America/Vancouver
BEGIN:VEVENT
UID:203@askuskelowna.ca
DTSTART;TZID=America/Vancouver:20250329T150000
DTEND;TZID=America/Vancouver:20250329T180000
DTSTAMP:20250328T015637Z
URL:https://askuskelowna.ca/events/racialized-humanists-meet-up-playing-bo
 ard-games/
SUMMARY:Racialized Humanists Meet-up - Playing Board Games
DESCRIPTION:Are you a racialized person (visible minority) in Kelowna that 
 is also an atheist/humanist/agnostic? Do you feel a need to talk to simila
 r people about the intersection of culture\, perceived race\, being the ot
 her\, and non-belief with a community of empathetic people?\nWhat is a rac
 ialized person in Canada? A racialized person is someone subject to percep
 tions of racial characteristics through an intensely social and cultural p
 rocess in Canada.\n\nBeing racialized in Canada is being constantly remind
 ed that you are different because you aren’t part of the predominant whi
 te society.\n\nLearn more: https://askuskelowna.ca/racialized-atheists-agn
 ostics-discussion-group/\n\nJoin us  at Location: Twice the Dice Board Ga
 me Cafe 575 Bernard Ave\, Kelowna\, 3:00 pm.\n\nThe cafe charges $5.00 per
  person\, plus food costs.\n\nWe will be playing games and just having fun
 .\n\nBook your space\, so we know how many chairs we need.
ATTACH;FMTTYPE=image/jpeg:https://askuskelowna.ca/wp-content/uploads/2024/
 12/RHAKHumanist.png
CATEGORIES:Racialized Humanists
LOCATION:Twice the Dice Board Games Cafe\, 575 Bernard Ave\, Kelowna\, Cana
 da
X-APPLE-STRUCTURED-LOCATION;VALUE=URI;X-ADDRESS=575 Bernard Ave\, Kelowna\,
  Canada;X-APPLE-RADIUS=100;X-TITLE=Twice the Dice Board Games Cafe:geo:0,0
END:VEVENT
BEGIN:VTIMEZONE
TZID:America/Vancouver
X-LIC-LOCATION:America/Vancouver
BEGIN:DAYLIGHT
DTSTART:20250309T030000
TZOFFSETFROM:-0800
TZOFFSETTO:-0700
TZNAME:PDT
END:DAYLIGHT
END:VTIMEZONE
END:VCALENDAR