BEGIN:VCALENDAR
VERSION:2.0
PRODID:-//wp-events-plugin.com//7.2.3.1//EN
TZID:America/Vancouver
X-WR-TIMEZONE:America/Vancouver
BEGIN:VEVENT
UID:196@askuskelowna.ca
DTSTART;TZID=America/Vancouver:20241006T100000
DTEND;TZID=America/Vancouver:20241006T123000
DTSTAMP:20250303T002849Z
URL:https://askuskelowna.ca/events/secular-humanist-cafe-1st-sunday-2024-1
 0-06/
SUMMARY:Secular Humanist Cafe - 1st Sunday
DESCRIPTION:We're gathering at Urban Fare Cafe for a casual chat about secu
 lar humanism\, history\, politics\, culture\, and more. Not sure what secu
 lar humanism is? It’s a worldview that emphasizes reason\, ethics\, and 
 justice\, with a focus on human well-being and the importance of science a
 nd compassion in shaping our lives. Whether you're a long-time humanist or
  just curious to learn more\, all are welcome to join the  many conversat
 ions that we have!\n\nGrab a coffee and muffin for under $5\, and enjoy a 
 laid-back\, family-friendly environment where we can connect\, share ideas
 \, and learn from each other.\n\nLook for our sign on the table in the eat
 ing area – we can’t wait to meet you!\nWe are meeting on the 1st Sunda
 y and the 3rd Thursday of every month.
ATTACH;FMTTYPE=image/jpeg:https://askuskelowna.ca/wp-content/uploads/2024/
 11/KASHAs-HumanistCafe.png
CATEGORIES:Cafe
LOCATION:Urban Fare Cafe Lower Mission\, 3155 Lakeshore Road\, Kelowna\, BC
 \, V1W3S9\, Canada
X-APPLE-STRUCTURED-LOCATION;VALUE=URI;X-ADDRESS=3155 Lakeshore Road\, Kelow
 na\, BC\, V1W3S9\, Canada;X-APPLE-RADIUS=100;X-TITLE=Urban Fare Cafe Lower
  Mission:geo:0,0
END:VEVENT
BEGIN:VTIMEZONE
TZID:America/Vancouver
X-LIC-LOCATION:America/Vancouver
BEGIN:DAYLIGHT
DTSTART:20240310T030000
TZOFFSETFROM:-0800
TZOFFSETTO:-0700
TZNAME:PDT
END:DAYLIGHT
END:VTIMEZONE
END:VCALENDAR