BEGIN:VCALENDAR
VERSION:2.0
PRODID:-//wp-events-plugin.com//7.2.3.1//EN
TZID:America/Vancouver
X-WR-TIMEZONE:America/Vancouver
BEGIN:VEVENT
UID:588@askuskelowna.ca
DTSTART;TZID=America/Vancouver:20251102T100000
DTEND;TZID=America/Vancouver:20251102T130000
DTSTAMP:20251215T164755Z
URL:https://askuskelowna.ca/events/secular-humanist-cafe-1st-sunday-at-urb
 an-fare-2025-11-02/
SUMMARY:Secular Humanist Cafe - 1st Sunday at Urban Fare
DESCRIPTION:We’re gathering at Urban Fare Cafe for a casual chat about se
 cular humanism\, history\, politics\, culture\, and more. Not sure what se
 cular humanism is? It’s a worldview that emphasizes reason\, ethics\, an
 d justice\, with a focus on human well-being and the importance of science
  and compassion in shaping our lives. Whether you’re a long-time humanis
 t or just curious to learn more\, everyone is welcome to join the many con
 versations we have!\n\nGrab a coffee and muffin for under $5\, and enjoy a
  laid-back\, family-friendly environment where you can connect\, share ide
 as\, and learn from one another.\n\nLook for our sign on the table in the 
 eating area – we can’t wait to meet you!\nWe are meeting on the 1st Su
 nday and the 3rd Thursday of every month.\n     
ATTACH;FMTTYPE=image/jpeg:https://askuskelowna.ca/wp-content/uploads/2024/
 11/KASHAs-HumanistCafe.png
CATEGORIES:Cafe,Outside
LOCATION:Urban Fare Cafe Lower Mission\, 3155 Lakeshore Road\, Kelowna\, BC
 \, V1W3S9\, Canada
X-APPLE-STRUCTURED-LOCATION;VALUE=URI;X-ADDRESS=3155 Lakeshore Road\, Kelow
 na\, BC\, V1W3S9\, Canada;X-APPLE-RADIUS=100;X-TITLE=Urban Fare Cafe Lower
  Mission:geo:0,0
END:VEVENT
BEGIN:VTIMEZONE
TZID:America/Vancouver
X-LIC-LOCATION:America/Vancouver
BEGIN:STANDARD
DTSTART:20251102T010000
TZOFFSETFROM:-0700
TZOFFSETTO:-0800
TZNAME:PST
END:STANDARD
END:VTIMEZONE
END:VCALENDAR