BEGIN:VCALENDAR
VERSION:2.0
PRODID:-//wp-events-plugin.com//7.2.3.1//EN
TZID:America/Vancouver
X-WR-TIMEZONE:America/Vancouver
BEGIN:VEVENT
UID:531@askuskelowna.ca
DTSTART;TZID=America/Vancouver:20250626T100000
DTEND;TZID=America/Vancouver:20250626T130000
DTSTAMP:20250906T005536Z
URL:https://askuskelowna.ca/events/secular-humanist-cafe-4th-thursday-outs
 ide-2025-06-26/
SUMMARY:Secular Humanist  Cafe - 4th Thursday Outside
DESCRIPTION:We’re gathering at Mission Creek Park’s picnic shelter for 
 a casual chat about secular humanism\, history\, politics\, culture\, and 
 more. Not sure what secular humanism is? It’s a worldview that emphasize
 s reason\, ethics\, and justice\, with a focus on human well-being and the
  importance of science and compassion in shaping our lives. Whether you’
 re a long-time humanist or just curious to learn more\, all are welcome to
  join our many conversations!\n\nJoin us and enjoy a laid-back\, family-fr
 iendly environment where we can connect\, share ideas\, and learn from eac
 h other.\n\nThe shelter is located by the Leckie Road entrance parking lot
  off of Springfield Road.  Bring a lawn chair\, in case the shelter has b
 een booked by another party.\n\n\n\nLook for our sign on the table – we 
 can’t wait to meet you!\nWe will be meeting on the 1st Sunday (10:00 am 
 to 1:oo PM) and the 3rd or 4th Thursday of every month – please check ou
 r calendar for dates.
ATTACH;FMTTYPE=image/jpeg:https://askuskelowna.ca/wp-content/uploads/2024/
 11/Thursday-KASHA-HumanistCafe.png
CATEGORIES:Cafe,Outside
LOCATION:Mission Creek Regional Park\, 2363 Springfield Road\, Kelowna\, BC
 \, V1X 7N7\, Canada
X-APPLE-STRUCTURED-LOCATION;VALUE=URI;X-ADDRESS=2363 Springfield Road\, Kel
 owna\, BC\, V1X 7N7\, Canada;X-APPLE-RADIUS=100;X-TITLE=Mission Creek Regi
 onal Park:geo:0,0
END:VEVENT
BEGIN:VTIMEZONE
TZID:America/Vancouver
X-LIC-LOCATION:America/Vancouver
BEGIN:DAYLIGHT
DTSTART:20250309T030000
TZOFFSETFROM:-0800
TZOFFSETTO:-0700
TZNAME:PDT
END:DAYLIGHT
END:VTIMEZONE
END:VCALENDAR