BEGIN:VCALENDAR
VERSION:2.0
PRODID:-//wp-events-plugin.com//7.2.3.1//EN
TZID:America/Vancouver
X-WR-TIMEZONE:America/Vancouver
BEGIN:VEVENT
UID:28@askuskelowna.ca
DTSTART;TZID=America/Vancouver:20250210T180000
DTEND;TZID=America/Vancouver:20250210T210000
DTSTAMP:20250203T031732Z
URL:https://askuskelowna.ca/events/skeptics-in-the-pub-2nd-monday-2025-02-
 10/
SUMMARY:Skeptics in the Pub & Darwin Day Trivia Quiz
DESCRIPTION:On February 10\, 2025\, we will celebrate Darwin Day two days e
 arly with a Darwin Trivia Quiz.\n\nWhat is Darwin Day? Click here: Darwin 
 Day\n\nCome to Freddy's and grab a chair and a drink.  Join skeptics\, at
 heists\, and freethinkers for stimulating and intriguing conversation.  A
 ll are welcome for open discussion\, learning\, and new friendships.\n\nYo
 ur host for this event is Paul.  Look for the table with the KASHA sign o
 r ask the staff where the KASHA table is.\n\nThis social meets every 2nd M
 onday of the month.
ATTACH;FMTTYPE=image/jpeg:https://askuskelowna.ca/wp-content/uploads/2024/
 11/Skeptics-Darwin-Day.jpg
CATEGORIES:Pub
LOCATION:Freddy's Brewpub\, 124-948 McCurdy Road\, Kelowna\, BC\, Canada
X-APPLE-STRUCTURED-LOCATION;VALUE=URI;X-ADDRESS=124-948 McCurdy Road\, Kelo
 wna\, BC\, Canada;X-APPLE-RADIUS=100;X-TITLE=Freddy's Brewpub:geo:0,0
END:VEVENT
BEGIN:VTIMEZONE
TZID:America/Vancouver
X-LIC-LOCATION:America/Vancouver
BEGIN:STANDARD
DTSTART:20241103T010000
TZOFFSETFROM:-0700
TZOFFSETTO:-0800
TZNAME:PST
END:STANDARD
END:VTIMEZONE
END:VCALENDAR