BEGIN:VCALENDAR
VERSION:2.0
PRODID:-//wp-events-plugin.com//7.2.3.1//EN
TZID:America/Vancouver
X-WR-TIMEZONE:America/Vancouver
BEGIN:VEVENT
UID:564@askuskelowna.ca
DTSTART;TZID=America/Vancouver:20260112T180000
DTEND;TZID=America/Vancouver:20260112T210000
DTSTAMP:20260405T160811Z
URL:https://askuskelowna.ca/events/skeptics-in-the-pub-2nd-monday-at-fredd
 ys-brewpub-2026-01-12/
SUMMARY:Skeptics in the Pub - 2nd Monday at Freddy's Brewpub
DESCRIPTION:Come on in! Grab a drink and chair.  Join skeptics\, atheists\
 , and freethinkers for stimulating and intriguing conversation.  All are 
 welcome for open discussion\, learning\, and new friendship.\n\nYour host 
 for this event is Paul.  Look for the table with the KASHA sign or ask th
 e staff where the KASHA table is.\n\nThis social meets every 2nd Monday of
  every Month.
ATTACH;FMTTYPE=image/jpeg:https://askuskelowna.ca/wp-content/uploads/2018/
 03/Skeptics-in-the-Pub-KASHA.jpg
CATEGORIES:Pub
LOCATION:Freddy's Brewpub\, 124-948 McCurdy Road\, Kelowna\, BC\, Canada
X-APPLE-STRUCTURED-LOCATION;VALUE=URI;X-ADDRESS=124-948 McCurdy Road\, Kelo
 wna\, BC\, Canada;X-APPLE-RADIUS=100;X-TITLE=Freddy's Brewpub:geo:0,0
END:VEVENT
BEGIN:VTIMEZONE
TZID:America/Vancouver
X-LIC-LOCATION:America/Vancouver
BEGIN:STANDARD
DTSTART:20251102T010000
TZOFFSETFROM:-0700
TZOFFSETTO:-0800
TZNAME:PST
END:STANDARD
END:VTIMEZONE
END:VCALENDAR