BEGIN:VCALENDAR
VERSION:2.0
PRODID:-//wp-events-plugin.com//7.2.3.1//EN
TZID:America/Vancouver
X-WR-TIMEZONE:America/Vancouver
BEGIN:VEVENT
UID:202@askuskelowna.ca
DTSTART;TZID=America/Vancouver:20250413T130000
DTEND;TZID=America/Vancouver:20250413T160000
DTSTAMP:20250327T170144Z
URL:https://askuskelowna.ca/events/the-power-of-allyship/
SUMMARY:The Power of Allyship
DESCRIPTION:Wilber Turner will be speaking on the power of allyship.\n\nThe
  Power of Allyship:\n- understanding intersectionality in bullying and tar
 geted harassment\n- why marginalized groups like 2SLGBTQIA+ are often mor
 e impacted by bullying\n- education as a tool for change\n- cyberbullying
  and steps to counter it\n- a call to action\n\nAllyship definition: The
  quality or practice of helping or supporting other people who are part of
  a group that is treated badly or unfairly\, although you are not yourself
  a member of this group:\n\n 	One of the most important ways to practice a
 llyship is to listen.\n 	Allyship means using your power\, position\, or p
 rivilege to uplift others.\n\n\n\nOur presenter\, Wilber Turner\, the visi
 onary founder and President of Advocacy Canada\, brings a lifetime of dedi
 cation and passion to the fight for 2SLGBTQIA+ equality.\n\nWilbur’s lea
 dership extends throughout the community. He serves as the 2SLGBTQIA+ sect
 or representative on Kelowna’s Community Advisory Board on Homelessness\
 , demonstrating his dedication to local advocacy efforts. He previously se
 rved as president of the Kelowna Pride\, Fierté Canada Pride\, and Living
  Positive Resource Centre boards\, and played a pivotal role in establishi
 ng Kelowna’s Etcetera 2SLGBTQ youth group. His diverse background encomp
 asses leadership roles in various organizations\, from large corporations 
 to community-driven initiatives.\n\nCombining his extensive experience and
  unwavering advocacy\, Wilbur is a critical force for good within Advocacy
  Canada. He guides the organization in fostering unity\, amplifying voices
 \, and driving transformative change for the 2SLGBTQIA+ community.\n\n&nbs
 p\;
ATTACH;FMTTYPE=image/jpeg:https://askuskelowna.ca/wp-content/uploads/2025/
 03/Allyship-Hands.jpg
CATEGORIES:Forum
LOCATION:Creekside Pub\, 3929 Lakeshore Road\, Kelowna\, BC\, V1W 1V3\, Can
 ada
X-APPLE-STRUCTURED-LOCATION;VALUE=URI;X-ADDRESS=3929 Lakeshore Road\, Kelow
 na\, BC\, V1W 1V3\, Canada;X-APPLE-RADIUS=100;X-TITLE=Creekside Pub:geo:0,
 0
END:VEVENT
BEGIN:VTIMEZONE
TZID:America/Vancouver
X-LIC-LOCATION:America/Vancouver
BEGIN:DAYLIGHT
DTSTART:20250309T030000
TZOFFSETFROM:-0800
TZOFFSETTO:-0700
TZNAME:PDT
END:DAYLIGHT
END:VTIMEZONE
END:VCALENDAR