BEGIN:VCALENDAR
VERSION:2.0
PRODID:-//wp-events-plugin.com//7.2.3.1//EN
TZID:America/Vancouver
X-WR-TIMEZONE:America/Vancouver
BEGIN:VEVENT
UID:608@askuskelowna.ca
DTSTART;TZID=America/Vancouver:20260104T120000
DTEND;TZID=America/Vancouver:20260405T143000
DTSTAMP:20260128T184054Z
URL:https://askuskelowna.ca/events/think-play-a-kasha-board-game-family-so
 cial/
SUMMARY:Think & Play: A KASHA Board Game Family Social
DESCRIPTION:Come play\, think\, and connect with KASHA at the wonderfully e
 clectic Twice the Dice Board Game Café on Bernard!\n\nWhether you’re 
 a seasoned board-game strategist or just in it for the fun\, you’re welc
 ome here. This is a relaxed\, social gathering for people who enjoy games
  and conversations rooted in reason\, science\, curiosity\, and humanist
 ic values.\n\nThe café is family-friendly\, with games suitable for ages
  3 and up\, so feel free to bring the kids along. Endless supply of classi
 c and new games to keep everyone entertained for hours. You can also just 
 stop in for the great conversation. It is not a requirement to play a game
 .\n\nGrab a meal or a drink\, pick a game\, and spend the afternoon with y
 our people.\n\nWe meet at noon\, just look for the table with the KASHA
  sign.\nPlease note: the café requires a minimum $10 food or drink purch
 ase per person.\n\nKASHA meets here every first Sunday of the month.
ATTACH;FMTTYPE=image/jpeg:https://askuskelowna.ca/wp-content/uploads/2025/
 12/Think-and-Play-Game-board-family-socia-sign.png
CATEGORIES:Cafe
LOCATION:Twice the Dice Board Games Cafe\, 575 Bernard Ave\, Kelowna\, Cana
 da
X-APPLE-STRUCTURED-LOCATION;VALUE=URI;X-ADDRESS=575 Bernard Ave\, Kelowna\,
  Canada;X-APPLE-RADIUS=100;X-TITLE=Twice the Dice Board Games Cafe:geo:0,0
END:VEVENT
BEGIN:VTIMEZONE
TZID:America/Vancouver
X-LIC-LOCATION:America/Vancouver
BEGIN:STANDARD
DTSTART:20251102T010000
TZOFFSETFROM:-0700
TZOFFSETTO:-0800
TZNAME:PST
END:STANDARD
BEGIN:DAYLIGHT
DTSTART:20260308T030000
TZOFFSETFROM:-0800
TZOFFSETTO:-0700
TZNAME:PDT
END:DAYLIGHT
END:VTIMEZONE
END:VCALENDAR