BEGIN:VCALENDAR
VERSION:2.0
PRODID:-//wp-events-plugin.com//7.2.3.1//EN
TZID:America/Vancouver
X-WR-TIMEZONE:America/Vancouver
BEGIN:VEVENT
UID:535@askuskelowna.ca
DTSTART;TZID=America/Vancouver:20250622T120000
DTEND;TZID=America/Vancouver:20250622T150000
DTSTAMP:20250525T161518Z
URL:https://askuskelowna.ca/events/tour-of-the-universe-a-summer-solstice-
 forum/
SUMMARY:Tour of the Universe - A Summer Solstice Forum
DESCRIPTION:Tour of the Universe. Starting at Earth\, we travel outward\, s
 topping at a few celestial objects for a closer look. We discover we are s
 tar-stuff and how many stars there are. We end with finding just how much 
 we know\, or don't know\, about the universe.\n\nOur presenter for this Fo
 rum will be Colleen O'Hare\, one of the hard-working volunteers for RASC O
 kanagan Centre.\n\n\n\nColleen has always been interested in science\, and
  in 2004\, she found time to join the RASC Okanagan Centre. She quickly gr
 avitated towards Outreach and is currently the Outreach Program Director. 
 She enjoys sharing her passion by presenting slide shows to schools and cl
 ubs as well as participating in public community events. As a founder of t
 he Okanagan Observatory\, she starts the public nights off with a presenta
 tion and then joins other members with their telescopes to amaze the guest
 s with celestial sights. Colleen was awarded the inaugural Qilak award in 
 2012 and has just been honoured with an asteroid named for her. (10096 Col
 leenohare – 1991 RK5) She is thoroughly comfortable with the label of 
 ‘astronomoholic’.
ATTACH;FMTTYPE=image/jpeg:https://askuskelowna.ca/wp-content/uploads/2025/
 05/The-Universe.jpg
LOCATION:Creekside Pub\, 3929 Lakeshore Road\, Kelowna\, BC\, V1W 1V3\, Can
 ada
X-APPLE-STRUCTURED-LOCATION;VALUE=URI;X-ADDRESS=3929 Lakeshore Road\, Kelow
 na\, BC\, V1W 1V3\, Canada;X-APPLE-RADIUS=100;X-TITLE=Creekside Pub:geo:0,
 0
END:VEVENT
BEGIN:VTIMEZONE
TZID:America/Vancouver
X-LIC-LOCATION:America/Vancouver
BEGIN:DAYLIGHT
DTSTART:20250309T030000
TZOFFSETFROM:-0800
TZOFFSETTO:-0700
TZNAME:PDT
END:DAYLIGHT
END:VTIMEZONE
END:VCALENDAR