BEGIN:VCALENDAR
VERSION:2.0
PRODID:-//wp-events-plugin.com//7.2.3.1//EN
TZID:America/Vancouver
X-WR-TIMEZONE:America/Vancouver
BEGIN:VEVENT
UID:629@askuskelowna.ca
DTSTART;TZID=America/Toronto:20260807T000000
DTEND;TZID=America/Toronto:20260809T000000
DTSTAMP:20260320T155235Z
URL:https://askuskelowna.ca/events/world-humanist-congress-2026/
SUMMARY:World Humanist Congress 2026
DESCRIPTION:Join the biggest global movement to forge human-centered soluti
 ons and turn humanist ideals into powerful\, real-world action.\n\nSee det
 ails here:  https://humanists.international/event/world-humanist-congress
 -2026/\n\n&nbsp\;
ATTACH;FMTTYPE=image/jpeg:https://askuskelowna.ca/wp-content/uploads/2026/
 03/World-Humanist-Congress-2026.jpg
CATEGORIES:Special
LOCATION:The Westin Ottawa\, 11 Colonel By Drive\, Ottawa\, Ontario\, K1N 9
 J1\, Canada
X-APPLE-STRUCTURED-LOCATION;VALUE=URI;X-ADDRESS=11 Colonel By Drive\, Ottaw
 a\, Ontario\, K1N 9J1\, Canada;X-APPLE-RADIUS=100;X-TITLE=The Westin Ottaw
 a:geo:0,0
END:VEVENT
BEGIN:VTIMEZONE
TZID:America/Toronto
X-LIC-LOCATION:America/Toronto
BEGIN:DAYLIGHT
DTSTART:20260308T030000
TZOFFSETFROM:-0500
TZOFFSETTO:-0400
TZNAME:EDT
END:DAYLIGHT
END:VTIMEZONE
END:VCALENDAR